BEGIN:VCALENDAR
VERSION:2.0
PRODID:-//Department of History - ECPv4.6.17//NONSGML v1.0//EN
CALSCALE:GREGORIAN
METHOD:PUBLISH
X-WR-CALNAME:Department of History
X-ORIGINAL-URL:https://history.wisc.edu
X-WR-CALDESC:Events for Department of History
BEGIN:VEVENT
DTSTART;VALUE=DATE:20180521
DTEND;VALUE=DATE:20180616
DTSTAMP:20180627T220641
CREATED:20180507T165803Z
LAST-MODIFIED:20180508T191136Z
UID:16446-1526860800-1529107199@history.wisc.edu
SUMMARY:4-week summer session
DESCRIPTION:
URL:https://history.wisc.edu/event/4-week-summer-session/
CATEGORIES:2018,All Events,Shared Events
ATTACH;FMTTYPE=image/jpeg:https://history.wiscweb.wisc.edu/wp-content/uploads/sites/202/2018/05/event-summer-course.jpg
END:VEVENT
BEGIN:VEVENT
DTSTART;VALUE=DATE:20180528
DTEND;VALUE=DATE:20180529
DTSTAMP:20180627T220641
CREATED:20180507T170019Z
LAST-MODIFIED:20180507T170019Z
UID:16490-1527465600-1527551999@history.wisc.edu
SUMMARY:Memorial Day observed - Office Closed
DESCRIPTION:
URL:https://history.wisc.edu/event/memorial-day-observed-office-closed/
CATEGORIES:2018,All Events,Shared Events
END:VEVENT
BEGIN:VEVENT
DTSTART;VALUE=DATE:20180529
DTEND;VALUE=DATE:20180616
DTSTAMP:20180627T220641
CREATED:20180507T170818Z
LAST-MODIFIED:20180604T144911Z
UID:16492-1527552000-1529107199@history.wisc.edu
SUMMARY:3-week summer session
DESCRIPTION:
URL:https://history.wisc.edu/event/3-week-summer-session/
CATEGORIES:2018,All Events,Shared Events
ATTACH;FMTTYPE=image/jpeg:https://history.wiscweb.wisc.edu/wp-content/uploads/sites/202/2017/08/events-committee-meeting.jpg
END:VEVENT
BEGIN:VEVENT
DTSTART;TZID=America/Chicago:20180529T160000
DTEND;TZID=America/Chicago:20180529T173000
DTSTAMP:20180627T220641
CREATED:20180423T120023Z
LAST-MODIFIED:20180423T145305Z
UID:16323-1527609600-1527615000@history.wisc.edu
SUMMARY:Roundtable - European Antisemitism
DESCRIPTION:The state of the field on European antisemitism\nHosted by\nRenato Moro and\nJohn Connolly \nTuesday\, May 29\, 2018\n4:00 PM\nCurt Lounge (Rm 5233 Mosse Humanities Bldg.) \nCo-sponsored by the Mosse Program and the History & Politics seminar \n
URL:https://history.wisc.edu/event/roundtable-european-antisemitism/
LOCATION:455 N. Park St.\, Madison\, WI\, 53706\, United States
GEO:43.0738097;-89.4000006
X-APPLE-STRUCTURED-LOCATION;VALUE=URI;X-ADDRESS=455 N. Park St. Madison WI 53706 United States;X-APPLE-RADIUS=500;X-TITLE=455 N. Park St.:geo:-89.4000006,43.0738097
CATEGORIES:2018,All Events,European History,George Mosse Program,History Events
ATTACH;FMTTYPE=image/jpeg:https://history.wiscweb.wisc.edu/wp-content/uploads/sites/202/2018/01/W_crest_banner17_93121-e1517322861107.jpg
END:VEVENT
BEGIN:VEVENT
DTSTART;VALUE=DATE:20180618
DTEND;VALUE=DATE:20180811
DTSTAMP:20180627T220641
CREATED:20180507T170955Z
LAST-MODIFIED:20180605T133403Z
UID:16511-1529280000-1533945599@history.wisc.edu
SUMMARY:8-week summer session
DESCRIPTION:
URL:https://history.wisc.edu/event/8-week-summer-session/
CATEGORIES:2018,All Events,Home-Page,Shared Events
ATTACH;FMTTYPE=image/jpeg:https://history.wiscweb.wisc.edu/wp-content/uploads/sites/202/2018/05/Campus_Spring17_1626.jpg
END:VEVENT
END:VCALENDAR